BEGIN:VCALENDAR
VERSION:2.0
PRODID:-//wp-events-plugin.com//7.2.3.1//EN
TZID:Europe/Paris
X-WR-TIMEZONE:Europe/Paris
BEGIN:VEVENT
UID:25@leaderseed.fr
DTSTART;TZID=Europe/Paris:20261208T090000
DTEND;TZID=Europe/Paris:20261208T173000
DTSTAMP:20260108T180133Z
URL:https://leaderseed.fr/events/formation-conduire-une-negociation-comple
 xe-transformez-chaque-obstacle-en-opportunite-202612/
SUMMARY:Formation Conduire une négociation complexe : Transformez chaque o
 bstacle en opportunité
DESCRIPTION:Négocier en situation complexe ne s’improvise pas. Bien au c
 ontraire\, les négociateurs agiles et efficaces en environnement incertai
 n présentent tous la même caractéristique: ils sont préparés et doté
 s des outils nécessaire.
ATTACH;FMTTYPE=image/jpeg:https://leaderseed.fr/wp-content/uploads/formati
 on-maitriser-negociations-complexes-leaderseed-400x300-1.jpg
CATEGORIES:Formation
LOCATION:Etincelle Coworking Alsace-Lorraine\, 36 rue d'Alsace Lorraine\, T
 oulouse\, Haute-Garonne\, 31000\, Occitanie\, France
GEO:43.605498;1.445789
X-APPLE-STRUCTURED-LOCATION;VALUE=URI;X-ADDRESS=36 rue d'Alsace Lorraine\, 
 Toulouse\, Haute-Garonne\, 31000\, Occitanie\, France;X-APPLE-RADIUS=100;X
 -TITLE=Etincelle Coworking Alsace-Lorraine:geo:43.605498,1.445789
END:VEVENT
BEGIN:VTIMEZONE
TZID:Europe/Paris
X-LIC-LOCATION:Europe/Paris
BEGIN:STANDARD
DTSTART:20261025T020000
TZOFFSETFROM:+0200
TZOFFSETTO:+0100
TZNAME:CET
END:STANDARD
END:VTIMEZONE
END:VCALENDAR