BEGIN:VCALENDAR
VERSION:2.0
PRODID:-//wp-events-plugin.com//7.2.3.1//EN
TZID:Europe/Paris
X-WR-TIMEZONE:Europe/Paris
BEGIN:VEVENT
UID:38@leaderseed.fr
DTSTART;TZID=Europe/Paris:20261125T090000
DTEND;TZID=Europe/Paris:20261126T173000
DTSTAMP:20260110T175834Z
URL:https://leaderseed.fr/events/formation-disc-business-vendre-mieux-en-c
 omprenant-vos-clients-202611/
SUMMARY:Formation DISC Business : Vendre mieux en comprenant vos clients
DESCRIPTION:La Formation DISC Business permet une meilleure compréhension 
 du comportement de vos clients et prospects. Mieux comprendre son client\,
  c'est vendre mieux. Formation à Toulouse ou en visioconférence.
ATTACH;FMTTYPE=image/jpeg:https://leaderseed.fr/wp-content/uploads/formati
 on-DISC-vente-mieux-comprendre-client-leaderseed-300x300-1.jpg
CATEGORIES:Formation
LOCATION:Etincelle Coworking Alsace-Lorraine\, 36 rue d'Alsace Lorraine\, T
 oulouse\, Haute-Garonne\, 31000\, Occitanie\, France
GEO:43.605498;1.445789
X-APPLE-STRUCTURED-LOCATION;VALUE=URI;X-ADDRESS=36 rue d'Alsace Lorraine\, 
 Toulouse\, Haute-Garonne\, 31000\, Occitanie\, France;X-APPLE-RADIUS=100;X
 -TITLE=Etincelle Coworking Alsace-Lorraine:geo:43.605498,1.445789
END:VEVENT
BEGIN:VTIMEZONE
TZID:Europe/Paris
X-LIC-LOCATION:Europe/Paris
BEGIN:STANDARD
DTSTART:20261025T020000
TZOFFSETFROM:+0200
TZOFFSETTO:+0100
TZNAME:CET
END:STANDARD
END:VTIMEZONE
END:VCALENDAR